BEGIN:VCALENDAR
VERSION:2.0
PRODID:-//The O&amp;P EDGE Magazine - ECPv6.15.13.1//NONSGML v1.0//EN
CALSCALE:GREGORIAN
METHOD:PUBLISH
X-WR-CALNAME:The O&amp;P EDGE Magazine
X-ORIGINAL-URL:https://opedge.com
X-WR-CALDESC:Events for The O&amp;P EDGE Magazine
REFRESH-INTERVAL;VALUE=DURATION:PT1H
X-Robots-Tag:noindex
X-PUBLISHED-TTL:PT1H
BEGIN:VTIMEZONE
TZID:America/Halifax
BEGIN:DAYLIGHT
TZOFFSETFROM:-0400
TZOFFSETTO:-0300
TZNAME:ADT
DTSTART:20030406T060000
END:DAYLIGHT
BEGIN:STANDARD
TZOFFSETFROM:-0300
TZOFFSETTO:-0400
TZNAME:AST
DTSTART:20031026T050000
END:STANDARD
BEGIN:DAYLIGHT
TZOFFSETFROM:-0400
TZOFFSETTO:-0300
TZNAME:ADT
DTSTART:20040404T060000
END:DAYLIGHT
BEGIN:STANDARD
TZOFFSETFROM:-0300
TZOFFSETTO:-0400
TZNAME:AST
DTSTART:20041031T050000
END:STANDARD
BEGIN:DAYLIGHT
TZOFFSETFROM:-0400
TZOFFSETTO:-0300
TZNAME:ADT
DTSTART:20050403T060000
END:DAYLIGHT
BEGIN:STANDARD
TZOFFSETFROM:-0300
TZOFFSETTO:-0400
TZNAME:AST
DTSTART:20051030T050000
END:STANDARD
END:VTIMEZONE
BEGIN:VEVENT
DTSTART;TZID=America/Halifax:20041004T000000
DTEND;TZID=America/Halifax:20041005T000000
DTSTAMP:20260422T104813
CREATED:20200719T200802Z
LAST-MODIFIED:20200719T200804Z
UID:25382-1096848000-1096934400@opedge.com
SUMMARY:Advanced Alpha Solutions
DESCRIPTION:Course briefly reviews transfemoral hand and brim casting methods and in-depth instruction on CAD-based solutions offered by the OMEGA System featuring Tracer Technologies. No registration fee\, free travel (up to $400)\, hotel and meals. Credits: 11.5 ABC and 11.5 BOC credits.
URL:https://opedge.com/event/advanced-alpha-solutions-9/
END:VEVENT
BEGIN:VEVENT
DTSTART;TZID=America/Halifax:20041006T000000
DTEND;TZID=America/Halifax:20041006T000000
DTSTAMP:20260422T104813
CREATED:20200719T194357Z
LAST-MODIFIED:20200719T194357Z
UID:23390-1097020800-1097020800@opedge.com
SUMMARY:Mastering Medicare Audio Conference\, "Understanding the Appeals Process"
DESCRIPTION:1:00-2:00 pm EST. www.AOPAnet.org.
URL:https://opedge.com/event/mastering-medicare-audio-conference-understanding-the-appeals-process/
END:VEVENT
BEGIN:VEVENT
DTSTART;TZID=America/Halifax:20041008T000000
DTEND;TZID=America/Halifax:20041008T000000
DTSTAMP:20260422T104813
CREATED:20200719T194529Z
LAST-MODIFIED:20200719T194529Z
UID:23517-1097193600-1097193600@opedge.com
SUMMARY:Lower Limb Seminar
DESCRIPTION:Features: TruStep® Foot\, TruPer® Foot for kids\, Venture™ Foot and the new Tribute™ Foot by College Park. Fitting and fabricating techniques by Coyote Design. 8.75 PCE’s.
URL:https://opedge.com/event/lower-limb-seminar-5/
END:VEVENT
BEGIN:VEVENT
DTSTART;TZID=America/Halifax:20041008T000000
DTEND;TZID=America/Halifax:20041008T000000
DTSTAMP:20260422T104813
CREATED:20200719T195153Z
LAST-MODIFIED:20200719T195153Z
UID:24137-1097193600-1097193600@opedge.com
SUMMARY:Advances in Upper-Limb Prosthetic Products at Children's Healthcare of Atlanta\, Atlanta\, GA.
DESCRIPTION:Future courses coming up in Philadelphia and Salt Lake City. PCEs awarded. Cost is free.
URL:https://opedge.com/event/advances-in-upper-limb-prosthetic-products-at-childrens-healthcare-of-atlanta-atlanta-ga/
END:VEVENT
BEGIN:VEVENT
DTSTART;TZID=America/Halifax:20041008T000000
DTEND;TZID=America/Halifax:20041010T000000
DTSTAMP:20260422T104813
CREATED:20200719T201711Z
LAST-MODIFIED:20200719T201713Z
UID:26206-1097193600-1097366400@opedge.com
SUMMARY:Anatomy & Physiology SOP Course and Movement Sciences SOP Course
DESCRIPTION:College level weekend course with PhD instructor for O&P. Advance your career through science. 20 Category I credits applied for. For more information\, visit www.sopcourses.com
URL:https://opedge.com/event/anatomy-physiology-sop-course-and-movement-sciences-sop-course-3/
END:VEVENT
BEGIN:VEVENT
DTSTART;TZID=America/Halifax:20041011T000000
DTEND;TZID=America/Halifax:20041012T000000
DTSTAMP:20260422T104813
CREATED:20200719T201508Z
LAST-MODIFIED:20200719T201508Z
UID:26028-1097452800-1097539200@opedge.com
SUMMARY:OMEGA Tracer Premier Training
DESCRIPTION:The class for you when you want more detailed instruction about the OMEGA Tracer Premier System. Through hands-on instruction\, this course demonstrates the prosthetic and orthotic capabilities of the leading CAD system. The registration fee is $695 (waived if you own or purchase a Tracer Premier System). Travel and lodging expenses are your responsibility. Credits: 13 ABC credits.
URL:https://opedge.com/event/omega-tracer-premier-training-5/
END:VEVENT
BEGIN:VEVENT
DTSTART;TZID=America/Halifax:20041012T000000
DTEND;TZID=America/Halifax:20041012T000000
DTSTAMP:20260422T104813
CREATED:20200719T194854Z
LAST-MODIFIED:20200719T194854Z
UID:23856-1097539200-1097539200@opedge.com
SUMMARY:Lower Limb Seminar
DESCRIPTION:Features: TruStep® Foot\, TruPer® Foot for kids\, Venture™ Foot and the new Tribute™ Foot by College Park. Fitting and fabricating techniques by Coyote Design. 8.75 PCE’s.
URL:https://opedge.com/event/lower-limb-seminar-9/
END:VEVENT
BEGIN:VEVENT
DTSTART;TZID=America/Halifax:20041014T000000
DTEND;TZID=America/Halifax:20041015T000000
DTSTAMP:20260422T104813
CREATED:20200719T200544Z
LAST-MODIFIED:20200719T200544Z
UID:25158-1097712000-1097798400@opedge.com
SUMMARY:Technician Examination
DESCRIPTION:Applications must be received by August 15\, 2004 and can be found at www.abcop.org.
URL:https://opedge.com/event/technician-examination-2/
END:VEVENT
BEGIN:VEVENT
DTSTART;TZID=America/Halifax:20041015T000000
DTEND;TZID=America/Halifax:20041015T000000
DTSTAMP:20260422T104813
CREATED:20200719T195911Z
LAST-MODIFIED:20200719T195913Z
UID:24845-1097798400-1097798400@opedge.com
SUMMARY:QVA Seminar "Qualify\, Verify\, & Authorize"
DESCRIPTION:8:30am-4:30pm – $150 registration fee. 6 ABC & BOC CEUs. Visit our website at www.OPBusinessSolutions.com.
URL:https://opedge.com/event/qva-seminar-qualify-verify-authorize/
END:VEVENT
BEGIN:VEVENT
DTSTART;TZID=America/Halifax:20041015T000000
DTEND;TZID=America/Halifax:20041016T000000
DTSTAMP:20260422T104813
CREATED:20200719T194617Z
LAST-MODIFIED:20200719T194617Z
UID:23594-1097798400-1097884800@opedge.com
SUMMARY:Orthotic Fitters Training Workshop
DESCRIPTION:BOC & ABC accredited.
URL:https://opedge.com/event/orthotic-fitters-training-workshop-2/
END:VEVENT
BEGIN:VEVENT
DTSTART;TZID=America/Halifax:20041015T000000
DTEND;TZID=America/Halifax:20041016T000000
DTSTAMP:20260422T104813
CREATED:20200719T201232Z
LAST-MODIFIED:20200719T201236Z
UID:25799-1097798400-1097884800@opedge.com
SUMMARY:Exam Preparation Seminar
DESCRIPTION:Whether you are just starting out or going for a second credential\, don’t miss the opportunity to ask important questions about the ABC exam. View agenda and register at www.oandp.org.
URL:https://opedge.com/event/exam-preparation-seminar/
END:VEVENT
BEGIN:VEVENT
DTSTART;TZID=America/Halifax:20041015T000000
DTEND;TZID=America/Halifax:20041016T000000
DTSTAMP:20260422T104813
CREATED:20200719T201824Z
LAST-MODIFIED:20200719T201825Z
UID:26315-1097798400-1097884800@opedge.com
SUMMARY:One-Day Seminar on Practice Management & One-Day Seminar on Prosthetic Management of the Lower-Limb Patient
DESCRIPTION:These programs are designed to provide you the opportunity to participate in focused programming. 15.5 PCEs. For program outline\, visit www.oandp.org
URL:https://opedge.com/event/one-day-seminar-on-practice-management-one-day-seminar-on-prosthetic-management-of-the-lower-limb-patient/
END:VEVENT
BEGIN:VEVENT
DTSTART;TZID=America/Halifax:20041015T000000
DTEND;TZID=America/Halifax:20041017T000000
DTSTAMP:20260422T104813
CREATED:20200719T201409Z
LAST-MODIFIED:20200719T201409Z
UID:25950-1097798400-1097971200@opedge.com
SUMMARY:An Integrated Approach to Lower Limb Prosthetics and Amputee Rehabilitation
DESCRIPTION:21 ABC credits. Speaker: Robert S. Gailey\, PhD\, PT.
URL:https://opedge.com/event/an-integrated-approach-to-lower-limb-prosthetics-and-amputee-rehabilitation-3/
END:VEVENT
BEGIN:VEVENT
DTSTART;TZID=America/Halifax:20041018T000000
DTEND;TZID=America/Halifax:20041018T000000
DTSTAMP:20260422T104813
CREATED:20200719T195336Z
LAST-MODIFIED:20200719T195338Z
UID:24312-1098057600-1098057600@opedge.com
SUMMARY:KAFO Course with E-Knee Certification
DESCRIPTION:This seminar will focus on the development and clinical application of the four stance and swing phase dynamic orthotic knee joints. Intended only for certified or licensed orthotists\, this course will include E-Knee certification. 9 CEUs offered.
URL:https://opedge.com/event/kafo-course-with-e-knee-certification-2/
END:VEVENT
BEGIN:VEVENT
DTSTART;TZID=America/Halifax:20041018T000000
DTEND;TZID=America/Halifax:20041019T000000
DTSTAMP:20260422T104813
CREATED:20200719T201214Z
LAST-MODIFIED:20200719T201215Z
UID:25774-1098057600-1098144000@opedge.com
SUMMARY:Achieving Success with the Alpha Liner
DESCRIPTION:Course focuses instruction on the Alpha Liner and the Pathfinder foot. No registration fee\, free travel (up to $400)\, hotel and meals. Credits: 13.25 ABC credits and 12.7 BOC credits.
URL:https://opedge.com/event/achieving-success-with-the-alpha-liner-5/
END:VEVENT
BEGIN:VEVENT
DTSTART;TZID=America/Halifax:20041018T000000
DTEND;TZID=America/Halifax:20041022T000000
DTSTAMP:20260422T104813
CREATED:20200719T195553Z
LAST-MODIFIED:20200719T195555Z
UID:24530-1098057600-1098403200@opedge.com
SUMMARY:OTC Fitters Training Course
DESCRIPTION:Comprehensive training for entry-level and experienced fitters of off-the-shelf orthotics. ABC and BOC accredited.
URL:https://opedge.com/event/otc-fitters-training-course/
END:VEVENT
BEGIN:VEVENT
DTSTART;TZID=America/Halifax:20041019T000000
DTEND;TZID=America/Halifax:20041019T000000
DTSTAMP:20260422T104813
CREATED:20200719T194318Z
LAST-MODIFIED:20200719T194318Z
UID:23328-1098144000-1098144000@opedge.com
SUMMARY:HIPAA Security Seminar
DESCRIPTION:
URL:https://opedge.com/event/hipaa-security-seminar/
END:VEVENT
BEGIN:VEVENT
DTSTART;TZID=America/Halifax:20041020T000000
DTEND;TZID=America/Halifax:20041021T000000
DTSTAMP:20260422T104813
CREATED:20200719T194403Z
LAST-MODIFIED:20200719T194403Z
UID:23399-1098230400-1098316800@opedge.com
SUMMARY:Coding & Billing Seminar
DESCRIPTION:
URL:https://opedge.com/event/coding-billing-seminar-2/
END:VEVENT
BEGIN:VEVENT
DTSTART;TZID=America/Halifax:20041021T000000
DTEND;TZID=America/Halifax:20041022T000000
DTSTAMP:20260422T104813
CREATED:20200719T194253Z
LAST-MODIFIED:20200719T194253Z
UID:23291-1098316800-1098403200@opedge.com
SUMMARY:Educational Practicum
DESCRIPTION:13.5 PCEs/CPEs awarded.
URL:https://opedge.com/event/educational-practicum/
END:VEVENT
BEGIN:VEVENT
DTSTART;TZID=America/Halifax:20041022T000000
DTEND;TZID=America/Halifax:20041024T000000
DTSTAMP:20260422T104813
CREATED:20200719T201433Z
LAST-MODIFIED:20200719T201435Z
UID:25985-1098403200-1098576000@opedge.com
SUMMARY:Anatomy & Physiology SOP Course and Movement Sciences SOP Course
DESCRIPTION:College level weekend course with PhD instructor for O&P. Advance your career through science. 20 Category I credits applied for. For more information\, visit www.sopcourses.com
URL:https://opedge.com/event/anatomy-physiology-sop-course-and-movement-sciences-sop-course-2/
END:VEVENT
BEGIN:VEVENT
DTSTART;TZID=America/Halifax:20041023T000000
DTEND;TZID=America/Halifax:20041023T000000
DTSTAMP:20260422T104813
CREATED:20200719T195852Z
LAST-MODIFIED:20200719T195852Z
UID:24811-1098489600-1098489600@opedge.com
SUMMARY:Academy Education Series
DESCRIPTION:(Details to Follow)
URL:https://opedge.com/event/academy-education-series-2/
END:VEVENT
BEGIN:VEVENT
DTSTART;TZID=America/Halifax:20041101T000000
DTEND;TZID=America/Halifax:20041101T000000
DTSTAMP:20260422T104813
CREATED:20200719T200925Z
LAST-MODIFIED:20200719T200926Z
UID:25523-1099267200-1099267200@opedge.com
SUMMARY:Monthly Amputee Clinic
DESCRIPTION:HealthSouth Rehabilitation Hospital offers a free monthly amputee clinic.  All persons who have experienced an amputation are invited.  The clinic is staffed by an orthopedic surgeon\, a physical therapist\, case managers\, and local orthotic and prosthetic professionals.  The clinic is free\, but preregistration is required.   The clinic is held every month\, on the first Monday of the month from 12:00 noon – 2:00 PM.  HealthSouth Rehabilitation Hospital is located at 7000 Jefferson NE\, Albuquerque\, NM 87109.
URL:https://opedge.com/event/monthly-amputee-clinic-6/
END:VEVENT
BEGIN:VEVENT
DTSTART;TZID=America/Halifax:20041101T000000
DTEND;TZID=America/Halifax:20041104T000000
DTSTAMP:20260422T104813
CREATED:20200719T200539Z
LAST-MODIFIED:20200719T200540Z
UID:25153-1099267200-1099526400@opedge.com
SUMMARY:Orthotic Fitter Course
DESCRIPTION:This is an approved entry-level educational program to become an ABC or BOC Orthotic Fitter. This four-day course includes basic anatomy\, physiology and proper application of casts and orthosis. Upon successful completion of this course and a minimum of 1\,000 hours of documented patient care\, the student will be eligible to take the ABC or BOC exams for Registration or Certification as an Orthotic Fitter.
URL:https://opedge.com/event/orthotic-fitter-course-18/
END:VEVENT
BEGIN:VEVENT
DTSTART;TZID=America/Halifax:20041104T000000
DTEND;TZID=America/Halifax:20041106T000000
DTSTAMP:20260422T104813
CREATED:20200719T200919Z
LAST-MODIFIED:20200719T200921Z
UID:25511-1099526400-1099699200@opedge.com
SUMMARY:Advanced Training Series (ATS): Overview of Gait Analysis
DESCRIPTION:This course will increase your knowledge of gait analysis technology\, terminology and data interpretation. Packed with valuable information\, taught by expert faculty\, and awarded 22.5 PCEs. Visit www.oandp.org for course outline and to register.
URL:https://opedge.com/event/advanced-training-series-ats-overview-of-gait-analysis/
END:VEVENT
BEGIN:VEVENT
DTSTART;TZID=America/Halifax:20041105T000000
DTEND;TZID=America/Halifax:20041105T000000
DTSTAMP:20260422T104813
CREATED:20200719T194623Z
LAST-MODIFIED:20200719T194623Z
UID:23605-1099612800-1099612800@opedge.com
SUMMARY:Spinal Management Workshop
DESCRIPTION:7.5 O&P PCEs awarded in 2003.
URL:https://opedge.com/event/spinal-management-workshop-2/
END:VEVENT
BEGIN:VEVENT
DTSTART;TZID=America/Halifax:20041105T000000
DTEND;TZID=America/Halifax:20041107T000000
DTSTAMP:20260422T104813
CREATED:20200719T200809Z
LAST-MODIFIED:20200719T200810Z
UID:25394-1099612800-1099785600@opedge.com
SUMMARY:Anatomy & Physiology SOP Course and Movement Sciences SOP Course
DESCRIPTION:College level weekend course with PhD instructor for O&P. Advance your career through science. 20 Category I credits applied for. For more information\, visit www.sopcourses.com
URL:https://opedge.com/event/anatomy-physiology-sop-course-and-movement-sciences-sop-course/
END:VEVENT
BEGIN:VEVENT
DTSTART;TZID=America/Halifax:20041106T000000
DTEND;TZID=America/Halifax:20041106T000000
DTSTAMP:20260422T104813
CREATED:20200719T194437Z
LAST-MODIFIED:20200719T194437Z
UID:23450-1099699200-1099699200@opedge.com
SUMMARY:Patient Case Study
DESCRIPTION:7.5 O&P PCEs awarded in 2003.
URL:https://opedge.com/event/patient-case-study/
END:VEVENT
BEGIN:VEVENT
DTSTART;TZID=America/Halifax:20041108T000000
DTEND;TZID=America/Halifax:20041109T000000
DTSTAMP:20260422T104813
CREATED:20200719T200435Z
LAST-MODIFIED:20200719T200436Z
UID:25079-1099872000-1099958400@opedge.com
SUMMARY:OMEGA Tracer Premier Training
DESCRIPTION:The class for you when you want more detailed instruction about the OMEGA Tracer Premier System. Through hands-on instruction\, this course demonstrates the prosthetic and orthotic capabilities of the leading CAD system. The registration fee is $695 (waived if you own or purchase a Tracer Premier System). Travel and lodging expenses are your responsibility. Credits: 13 ABC credits.
URL:https://opedge.com/event/omega-tracer-premier-training-3/
END:VEVENT
BEGIN:VEVENT
DTSTART;TZID=America/Halifax:20041109T000000
DTEND;TZID=America/Halifax:20041109T000000
DTSTAMP:20260422T104813
CREATED:20200719T194256Z
LAST-MODIFIED:20200719T194256Z
UID:23295-1099958400-1099958400@opedge.com
SUMMARY:Mastering Medicare Telephone Audio Seminar\,
DESCRIPTION:1:00-2:00 pm EST.
URL:https://opedge.com/event/mastering-medicare-telephone-audio-seminar/
END:VEVENT
BEGIN:VEVENT
DTSTART;TZID=America/Halifax:20041111T000000
DTEND;TZID=America/Halifax:20041113T000000
DTSTAMP:20260422T104813
CREATED:20200719T201824Z
LAST-MODIFIED:20200719T201826Z
UID:26316-1100131200-1100304000@opedge.com
SUMMARY:Annual Meeting
DESCRIPTION:
URL:https://opedge.com/event/annual-meeting-41/
END:VEVENT
END:VCALENDAR